BEGIN:VCALENDAR
VERSION:2.0
PRODID:-//RREACH :: Ramesh Richard Evangelism and Church Health - ECPv6.15.20//NONSGML v1.0//EN
CALSCALE:GREGORIAN
METHOD:PUBLISH
X-WR-CALNAME:RREACH :: Ramesh Richard Evangelism and Church Health
X-ORIGINAL-URL:https://rreach.org
X-WR-CALDESC:Events for RREACH :: Ramesh Richard Evangelism and Church Health
REFRESH-INTERVAL;VALUE=DURATION:PT1H
X-Robots-Tag:noindex
X-PUBLISHED-TTL:PT1H
BEGIN:VTIMEZONE
TZID:UTC
BEGIN:STANDARD
TZOFFSETFROM:+0000
TZOFFSETTO:+0000
TZNAME:UTC
DTSTART:20200101T000000
END:STANDARD
END:VTIMEZONE
BEGIN:VEVENT
DTSTART;TZID=UTC:20210114T104000
DTEND;TZID=UTC:20210114T112000
DTSTAMP:20260424T133246
CREATED:20201218T114631Z
LAST-MODIFIED:20201221T131606Z
UID:18880-1610620800-1610623200@rreach.org
SUMMARY:Dr. Richard Speaking: Dallas Theological Seminary Chapel
DESCRIPTION:Dr. Richard is to speak at Dallas Theological Seminary Chapel on Thursday\, January 14\, D.V. Watch online at https://voice.dts.edu/chapel/
URL:https://rreach.org/event/dr-richard-speaking-dallas-theological-seminary-chapel/
CATEGORIES:In Person Speaking Event,Virtual Speaking Event
END:VEVENT
END:VCALENDAR